BEGIN:VCALENDAR
VERSION:2.0
PRODID:-//ChamberMaster//Event Calendar 2.0//EN
METHOD:PUBLISH
X-PUBLISHED-TTL:P3D
REFRESH-INTERVAL:P3D
CALSCALE:GREGORIAN
BEGIN:VEVENT
DTSTART:20130629T140000Z
DTEND:20130630T040000Z
X-MICROSOFT-CDO-ALLDAYEVENT:FALSE
SUMMARY:PHS Alumni Breakfast
DESCRIPTION:The PHS Alumni annual FREE Breakfast at the Chamber!
X-ALT-DESC;FMTTYPE=text/html:The PHS Alumni annual FREE Breakfast at the Chamber!
LOCATION:Powell Chamber of Commerce Park
UID:e.326.5386
SEQUENCE:3
DTSTAMP:20260421T195223Z
URL:http://powellvalleychamber.chambermaster.com/events/details/phs-alumni-breakfast-06-29-2013-5386
END:VEVENT

END:VCALENDAR
