BEGIN:VCALENDAR
VERSION:2.0
PRODID:-//ChamberMaster//Event Calendar 2.0//EN
METHOD:PUBLISH
X-PUBLISHED-TTL:P3D
REFRESH-INTERVAL:P3D
CALSCALE:GREGORIAN
BEGIN:VEVENT
DTSTART:20130629T233000Z
DTEND:20130630T040000Z
X-MICROSOFT-CDO-ALLDAYEVENT:FALSE
SUMMARY:PHS Alumni Dinner & Dance
DESCRIPTION:
X-ALT-DESC;FMTTYPE=text/html:
LOCATION:
UID:e.326.5387
SEQUENCE:3
DTSTAMP:20260422T162527Z
URL:http://powellvalleychamber.chambermaster.com/events/details/phs-alumni-dinner-dance-06-29-2013-5387
END:VEVENT

END:VCALENDAR
