BEGIN:VCALENDAR
VERSION:2.0
PRODID:-//ChamberMaster//Event Calendar 2.0//EN
METHOD:PUBLISH
X-PUBLISHED-TTL:P3D
REFRESH-INTERVAL:P3D
CALSCALE:GREGORIAN
BEGIN:VEVENT
DTSTART;VALUE=DATE:20130628
DTEND;VALUE=DATE:20130630
TRANSP:TRANSPARENT
X-MICROSOFT-CDO-ALLDAYEVENT:TRUE
SUMMARY:PHS Alumni Weekend
DESCRIPTION:The 97th consecutive meeting of PHS Alumni!
X-ALT-DESC;FMTTYPE=text/html:The 97th&nbsp\;consecutive meeting of PHS Alumni!
LOCATION:
UID:e.326.5385
SEQUENCE:3
DTSTAMP:20260421T195223Z
URL:http://powellvalleychamber.chambermaster.com/events/details/phs-alumni-weekend-06-28-2013-5385
END:VEVENT

END:VCALENDAR
