BEGIN:VCALENDAR
VERSION:2.0
PRODID:-//ChamberMaster//Event Calendar 2.0//EN
METHOD:PUBLISH
X-PUBLISHED-TTL:P3D
REFRESH-INTERVAL:P3D
CALSCALE:GREGORIAN
BEGIN:VEVENT
DTSTART:20130406T150000Z
DTEND:20130406T230000Z
X-MICROSOFT-CDO-ALLDAYEVENT:FALSE
SUMMARY:Powell Invitational Track
DESCRIPTION:Coed 7th & 8th grade track here in Powell. Call Tim Wormald at 307-764-6181 for more info.
X-ALT-DESC;FMTTYPE=text/html:Coed 7th &amp\; 8th grade track here in Powell. Call Tim Wormald at 307-764-6181 for more info.
LOCATION:
UID:e.326.6321
SEQUENCE:3
DTSTAMP:20260425T122847Z
URL:http://powellvalleychamber.chambermaster.com/events/details/powell-invitational-track-04-06-2013-6321
END:VEVENT

END:VCALENDAR
