BEGIN:VCALENDAR
VERSION:2.0
PRODID:-//ChamberMaster//Event Calendar 2.0//EN
METHOD:PUBLISH
X-PUBLISHED-TTL:P3D
REFRESH-INTERVAL:P3D
CALSCALE:GREGORIAN
BEGIN:VEVENT
DTSTART;VALUE=DATE:20130705
DTEND;VALUE=DATE:20130707
TRANSP:TRANSPARENT
X-MICROSOFT-CDO-ALLDAYEVENT:TRUE
SUMMARY:Summer Rapture
DESCRIPTION:Donald Runnicles  Conductor\n\n	Alisa Weilerstein Cello\n\n	\n\n	WAGNER Tannh user: Overture\n\n	ELGAR Cello Concerto\n\n	BEETHOVEN Symphony No. 4
X-ALT-DESC;FMTTYPE=text/html:<p>\n	<strong>Donald Runnicles&nbsp\;</strong> Conductor<br />\n	<strong>Alisa Weilerstein</strong> Cello<br />\n	<br />\n	<strong>WAGNER</strong> <em>Tannh&auml\;user:</em> Overture<br />\n	<strong>ELGAR</strong> Cello Concerto<br />\n	<strong>BEETHOVEN</strong> Symphony No. 4</p>\n
LOCATION:Walk Festival Hall\, Teton Village\, WY 83025
UID:e.326.6317
SEQUENCE:3
DTSTAMP:20260424T215716Z
URL:http://powellvalleychamber.chambermaster.com/events/details/summer-rapture-07-05-2013-6317
END:VEVENT

END:VCALENDAR
